BEGIN:VCALENDAR
VERSION:2.0
PRODID:-//Tukios.com/
BEGIN:VEVENT
UID:3a7d96a7-0a5e-4450-8578-045dcdcf0301@www.bertrandfuneralhomes.com
DTSTAMP:20260420T190819Z
DTSTART:20260423T160000Z
DTEND:20260423T170000Z
SUMMARY:Funeral Service
DESCRIPTION:
URL:https://www.bertrandfuneralhomes.com/obituaries/daniel-hancock
LOCATION: 902 N State St  Pleasantville IA 50225
GEO:41.3936719;-93.2711527
END:VEVENT
END:VCALENDAR