BEGIN:VCALENDAR
VERSION:2.0
PRODID:-//Tukios.com/
BEGIN:VEVENT
UID:dcc3f074-9efb-423b-a376-e584530d5cb9@www.bertrandfuneralhomes.com
DTSTAMP:20260420T190713Z
DTSTART:20260423T150000Z
DTEND:20260423T160000Z
SUMMARY:Visitation
DESCRIPTION:
URL:https://www.bertrandfuneralhomes.com/obituaries/daniel-hancock
LOCATION: 902 N State St  Pleasantville IA 50225
GEO:41.3936719;-93.2711527
END:VEVENT
END:VCALENDAR