BEGIN:VCALENDAR
VERSION:2.0
PRODID:-//Tukios.com/
BEGIN:VEVENT
UID:f60f85e3-18e3-4469-8925-18745c2a9acc@www.bertrandfuneralhomes.com
DTSTAMP:20260420T190355Z
DTSTART:20260423
SUMMARY:Burial
DESCRIPTION:
URL:https://www.bertrandfuneralhomes.com/obituaries/daniel-hancock
LOCATION:    Pleasantville IA 50225
GEO:41.3869578;-93.2682683
END:VEVENT
END:VCALENDAR