BEGIN:VCALENDAR
VERSION:2.0
PRODID:-//Tukios.com/
BEGIN:VEVENT
UID:b649e04a-081b-45ee-b487-e871bcd5571b@www.bertrandfuneralhomes.com
DTSTAMP:20260425T030947Z
DTSTART:20260426T180000Z
DTEND:20260426T190000Z
SUMMARY:Visitation
DESCRIPTION:
URL:https://www.bertrandfuneralhomes.com/obituaries/vicky-test
LOCATION: 301 North Second Street  Knoxville IA 50138
GEO:41.3208898;-93.0972044
END:VEVENT
END:VCALENDAR