BEGIN:VCALENDAR
VERSION:2.0
PRODID:-//Tukios.com/
BEGIN:VEVENT
UID:6c2b6b11-b807-41ce-8f73-286ee3470225@www.bertrandfuneralhomes.com
DTSTAMP:20260425T031018Z
DTSTART:20260426T190000Z
DTEND:20260426T200000Z
SUMMARY:Funeral Service
DESCRIPTION:
URL:https://www.bertrandfuneralhomes.com/obituaries/vicky-test
LOCATION: 301 North Second Street  Knoxville IA 50138
GEO:41.3208898;-93.0972044
END:VEVENT
END:VCALENDAR